BEGIN:VCALENDAR
VERSION:2.0
PRODID:-//Truck Yard - ECPv6.10.1.1//NONSGML v1.0//EN
CALSCALE:GREGORIAN
METHOD:PUBLISH
X-WR-CALNAME:Truck Yard
X-ORIGINAL-URL:https://truckyard.com
X-WR-CALDESC:Events for Truck Yard
REFRESH-INTERVAL;VALUE=DURATION:PT1H
X-Robots-Tag:noindex
X-PUBLISHED-TTL:PT1H
BEGIN:VTIMEZONE
TZID:America/Chicago
BEGIN:DAYLIGHT
TZOFFSETFROM:-0600
TZOFFSETTO:-0500
TZNAME:CDT
DTSTART:20260308T080000
END:DAYLIGHT
BEGIN:STANDARD
TZOFFSETFROM:-0500
TZOFFSETTO:-0600
TZNAME:CST
DTSTART:20261101T070000
END:STANDARD
END:VTIMEZONE
BEGIN:VEVENT
DTSTART;TZID=America/Chicago:20260417T110000
DTEND;TZID=America/Chicago:20260424T230000
DTSTAMP:20260420T234818
CREATED:20260325T042020Z
LAST-MODIFIED:20260325T042021Z
UID:10021919-1776423600-1777071600@truckyard.com
SUMMARY:90's BBQ
DESCRIPTION:
URL:https://truckyard.com/event/90s-bbq-93/
LOCATION:Truck Yard Dallas\, 5624 Sears St.\, Dallas\, TX\, 75206\, United States
CATEGORIES:Trucks
END:VEVENT
BEGIN:VEVENT
DTSTART;TZID=America/Chicago:20260420T110000
DTEND;TZID=America/Chicago:20260420T220000
DTSTAMP:20260420T234818
CREATED:20260328T220408Z
LAST-MODIFIED:20260328T220409Z
UID:10022205-1776682800-1776722400@truckyard.com
SUMMARY:Taco & Burro
DESCRIPTION:
URL:https://truckyard.com/event/taco-burro-33/
LOCATION:Truck Yard OKC\, 240 CENTENNIAL DR\, Oklahoma City\, OK\, 73104\, United States
CATEGORIES:Trucks
END:VEVENT
BEGIN:VEVENT
DTSTART;TZID=America/Chicago:20260420T110000
DTEND;TZID=America/Chicago:20260420T230000
DTSTAMP:20260420T234818
CREATED:20260328T220409Z
LAST-MODIFIED:20260328T220409Z
UID:10022206-1776682800-1776726000@truckyard.com
SUMMARY:That's What Cheese Said
DESCRIPTION:
URL:https://truckyard.com/event/thats-what-cheese-said-191/
LOCATION:Truck Yard OKC\, 240 CENTENNIAL DR\, Oklahoma City\, OK\, 73104\, United States
CATEGORIES:Trucks
END:VEVENT
BEGIN:VEVENT
DTSTART;TZID=America/Chicago:20260420T150000
DTEND;TZID=America/Chicago:20260420T230000
DTSTAMP:20260420T234818
CREATED:20260326T194934Z
LAST-MODIFIED:20260326T194934Z
UID:10022139-1776697200-1776726000@truckyard.com
SUMMARY:90s BBQ
DESCRIPTION:
URL:https://truckyard.com/event/90s-bbq-108/
LOCATION:Truck Yard Fort Worth\, 3101 Prairie Vista Dr\, Fort Worth\, Texas\, 76177\, United States
CATEGORIES:Trucks
END:VEVENT
BEGIN:VEVENT
DTSTART;TZID=America/Chicago:20260420T150000
DTEND;TZID=America/Chicago:20260420T230000
DTSTAMP:20260420T234818
CREATED:20260326T194934Z
LAST-MODIFIED:20260326T194934Z
UID:10022140-1776697200-1776726000@truckyard.com
SUMMARY:Baja Quesadilla
DESCRIPTION:
URL:https://truckyard.com/event/baja-quesadilla-107/
LOCATION:Truck Yard Fort Worth\, 3101 Prairie Vista Dr\, Fort Worth\, Texas\, 76177\, United States
CATEGORIES:Trucks
END:VEVENT
BEGIN:VEVENT
DTSTART;TZID=America/Chicago:20260420T160000
DTEND;TZID=America/Chicago:20260420T210000
DTSTAMP:20260420T234818
CREATED:20260325T041440Z
LAST-MODIFIED:20260325T041440Z
UID:10021899-1776700800-1776718800@truckyard.com
SUMMARY:The Boss
DESCRIPTION:
URL:https://truckyard.com/event/the-boss-13/
LOCATION:Truck Yard Dallas\, 5624 Sears St.\, Dallas\, TX\, 75206\, United States
CATEGORIES:Trucks
END:VEVENT
BEGIN:VEVENT
DTSTART;TZID=America/Chicago:20260420T160000
DTEND;TZID=America/Chicago:20260420T210000
DTSTAMP:20260420T234818
CREATED:20260331T004600Z
LAST-MODIFIED:20260331T004600Z
UID:10022370-1776700800-1776718800@truckyard.com
SUMMARY:El Dogs
DESCRIPTION:
URL:https://truckyard.com/event/el-dogs-70/
LOCATION:Truck Yard The Colony\, 5959 Grove Lane\, The Colony\, TX\, 75056\, United States
CATEGORIES:Trucks
END:VEVENT
BEGIN:VEVENT
DTSTART;TZID=America/Chicago:20260420T160000
DTEND;TZID=America/Chicago:20260420T210000
DTSTAMP:20260420T234818
CREATED:20260331T004600Z
LAST-MODIFIED:20260331T004600Z
UID:10022371-1776700800-1776718800@truckyard.com
SUMMARY:FryDay Fair Concessions
DESCRIPTION:
URL:https://truckyard.com/event/fryday-fair-concessions-12/
LOCATION:Truck Yard The Colony\, 5959 Grove Lane\, The Colony\, TX\, 75056\, United States
CATEGORIES:Trucks
END:VEVENT
BEGIN:VEVENT
DTSTART;TZID=America/Chicago:20260420T160000
DTEND;TZID=America/Chicago:20260420T230000
DTSTAMP:20260420T234818
CREATED:20260329T205013Z
LAST-MODIFIED:20260329T205013Z
UID:10022285-1776700800-1776726000@truckyard.com
SUMMARY:Cheesesteaks! Smash Burgers! Nachos! Hot Dogs!
DESCRIPTION:
URL:https://truckyard.com/event/cheesesteaks-smash-burgers-nachos-hot-dogs-23/
LOCATION:Truck Yard Houston\, 2118 Lamar St\, Houston\, TX\, 77003\, United States
CATEGORIES:Trucks
END:VEVENT
BEGIN:VEVENT
DTSTART;TZID=America/Chicago:20260420T180000
DTEND;TZID=America/Chicago:20260420T210000
DTSTAMP:20260420T234818
CREATED:20260309T034035Z
LAST-MODIFIED:20260309T034035Z
UID:10021784-1776708000-1776718800@truckyard.com
SUMMARY:Leecie Paige
DESCRIPTION:
URL:https://truckyard.com/event/leecie-paige-13/
LOCATION:Truck Yard Dallas\, 5624 Sears St.\, Dallas\, TX\, 75206\, United States
CATEGORIES:Tunes
ATTACH;FMTTYPE=image/jpeg:https://truckyard.com/wp-content/uploads/2025/11/Leecie-Paige.jpeg
END:VEVENT
BEGIN:VEVENT
DTSTART;TZID=America/Chicago:20260420T180000
DTEND;TZID=America/Chicago:20260420T210000
DTSTAMP:20260420T234818
CREATED:20260322T211615Z
LAST-MODIFIED:20260322T211615Z
UID:10021880-1776708000-1776718800@truckyard.com
SUMMARY:David Wayne Broyles
DESCRIPTION:
URL:https://truckyard.com/event/david-wayne-broyles-12/
LOCATION:Truck Yard OKC\, 240 CENTENNIAL DR\, Oklahoma City\, OK\, 73104\, United States
CATEGORIES:Tunes
ATTACH;FMTTYPE=image/jpeg:https://truckyard.com/wp-content/uploads/2025/02/ADCA46BA-DD54-4AF4-AF18-2989B7408B2C_1_105_c-e1740255403748.jpeg
END:VEVENT
BEGIN:VEVENT
DTSTART;TZID=America/Chicago:20260420T180000
DTEND;TZID=America/Chicago:20260420T210000
DTSTAMP:20260420T234818
CREATED:20260326T152336Z
LAST-MODIFIED:20260326T152337Z
UID:10021981-1776708000-1776718800@truckyard.com
SUMMARY:Todd Stewart - Acoustic
DESCRIPTION:Doors open @ 4:00 PM
URL:https://truckyard.com/event/todd-stewart-acoustic-10/
LOCATION:Truck Yard The Colony\, 5959 Grove Lane\, The Colony\, TX\, 75056\, United States
CATEGORIES:Tunes
ATTACH;FMTTYPE=image/jpeg:https://truckyard.com/wp-content/uploads/2025/08/Todd-Stewart.jpg
END:VEVENT
BEGIN:VEVENT
DTSTART;TZID=America/Chicago:20260420T180000
DTEND;TZID=America/Chicago:20260420T210000
DTSTAMP:20260420T234818
CREATED:20260329T165904Z
LAST-MODIFIED:20260330T233744Z
UID:10022270-1776708000-1776718800@truckyard.com
SUMMARY:Jorge Arista
DESCRIPTION:
URL:https://truckyard.com/event/jorge-arista-5/
LOCATION:Truck Yard Fort Worth\, 3101 Prairie Vista Dr\, Fort Worth\, Texas\, 76177\, United States
CATEGORIES:Tunes
ATTACH;FMTTYPE=image/jpeg:https://truckyard.com/wp-content/uploads/2025/12/Jorge-Arista2-scaled.jpg
END:VEVENT
BEGIN:VEVENT
DTSTART;TZID=America/Chicago:20260420T190000
DTEND;TZID=America/Chicago:20260420T220000
DTSTAMP:20260420T234818
CREATED:20260410T174355Z
LAST-MODIFIED:20260410T174355Z
UID:10022417-1776711600-1776722400@truckyard.com
SUMMARY:Adam Estes
DESCRIPTION:
URL:https://truckyard.com/event/adam-estes-25/
LOCATION:Truck Yard Houston\, 2118 Lamar St\, Houston\, TX\, 77003\, United States
CATEGORIES:Tunes
ATTACH;FMTTYPE=image/png:https://truckyard.com/wp-content/uploads/2024/11/Adam-Estes.png
END:VEVENT
END:VCALENDAR